BEGIN:VCALENDAR
VERSION:2.0
PRODID:-//CleanAIRE NC - ECPv6.15.20//NONSGML v1.0//EN
CALSCALE:GREGORIAN
METHOD:PUBLISH
X-WR-CALNAME:CleanAIRE NC
X-ORIGINAL-URL:https://cleanairenc.org
X-WR-CALDESC:Events for CleanAIRE NC
REFRESH-INTERVAL;VALUE=DURATION:PT1H
X-Robots-Tag:noindex
X-PUBLISHED-TTL:PT1H
BEGIN:VTIMEZONE
TZID:America/New_York
BEGIN:DAYLIGHT
TZOFFSETFROM:-0500
TZOFFSETTO:-0400
TZNAME:EDT
DTSTART:20210314T070000
END:DAYLIGHT
BEGIN:STANDARD
TZOFFSETFROM:-0400
TZOFFSETTO:-0500
TZNAME:EST
DTSTART:20211107T060000
END:STANDARD
BEGIN:DAYLIGHT
TZOFFSETFROM:-0500
TZOFFSETTO:-0400
TZNAME:EDT
DTSTART:20220313T070000
END:DAYLIGHT
BEGIN:STANDARD
TZOFFSETFROM:-0400
TZOFFSETTO:-0500
TZNAME:EST
DTSTART:20221106T060000
END:STANDARD
BEGIN:DAYLIGHT
TZOFFSETFROM:-0500
TZOFFSETTO:-0400
TZNAME:EDT
DTSTART:20230312T070000
END:DAYLIGHT
BEGIN:STANDARD
TZOFFSETFROM:-0400
TZOFFSETTO:-0500
TZNAME:EST
DTSTART:20231105T060000
END:STANDARD
END:VTIMEZONE
BEGIN:VEVENT
DTSTART;TZID=America/New_York:20220111T190000
DTEND;TZID=America/New_York:20220111T200000
DTSTAMP:20260422T115643
CREATED:20220106T170403Z
LAST-MODIFIED:20220112T143422Z
UID:26472-1641927600-1641931200@cleanairenc.org
SUMMARY:Tell Me About It Tuesdays: Water Quality\, Public Health\, and Coastal Resilience
DESCRIPTION:Sound Rivers’ virtual science series\, Tell Me About It Tuesdays\, returns in the new year with “Water Quality\, Public Health\, and Coastal Resilience.” Tune in at 7 p.m. on Jan. 11 with Dr. Rachel Noble for this talk about the risk of microbial contaminants to coastal resilience and public health\, with some real-world examples from coastal towns in North Carolina. Noble is a distinguished professor of marine science at the University of North Carolina-Chapel Hill.
URL:https://cleanairenc.org/event/tell-me-about-it-tuesdays-water-quality-public-health-and-coastal-resilience/
LOCATION:Virtual
CATEGORIES:Past
ATTACH;FMTTYPE=image/jpeg:https://cleanairenc.org/wp-content/uploads/2022/01/Tell-Me-About-It-Tuesdays-Jan-11.jpeg
END:VEVENT
END:VCALENDAR