BEGIN:VCALENDAR
VERSION:2.0
PRODID:-//CleanAIRE NC - ECPv6.15.20//NONSGML v1.0//EN
CALSCALE:GREGORIAN
METHOD:PUBLISH
X-WR-CALNAME:CleanAIRE NC
X-ORIGINAL-URL:https://cleanairenc.org
X-WR-CALDESC:Events for CleanAIRE NC
REFRESH-INTERVAL;VALUE=DURATION:PT1H
X-Robots-Tag:noindex
X-PUBLISHED-TTL:PT1H
BEGIN:VTIMEZONE
TZID:America/New_York
BEGIN:DAYLIGHT
TZOFFSETFROM:-0500
TZOFFSETTO:-0400
TZNAME:EDT
DTSTART:20210314T070000
END:DAYLIGHT
BEGIN:STANDARD
TZOFFSETFROM:-0400
TZOFFSETTO:-0500
TZNAME:EST
DTSTART:20211107T060000
END:STANDARD
BEGIN:DAYLIGHT
TZOFFSETFROM:-0500
TZOFFSETTO:-0400
TZNAME:EDT
DTSTART:20220313T070000
END:DAYLIGHT
BEGIN:STANDARD
TZOFFSETFROM:-0400
TZOFFSETTO:-0500
TZNAME:EST
DTSTART:20221106T060000
END:STANDARD
BEGIN:DAYLIGHT
TZOFFSETFROM:-0500
TZOFFSETTO:-0400
TZNAME:EDT
DTSTART:20230312T070000
END:DAYLIGHT
BEGIN:STANDARD
TZOFFSETFROM:-0400
TZOFFSETTO:-0500
TZNAME:EST
DTSTART:20231105T060000
END:STANDARD
END:VTIMEZONE
BEGIN:VTIMEZONE
TZID:UTC
BEGIN:STANDARD
TZOFFSETFROM:+0000
TZOFFSETTO:+0000
TZNAME:UTC
DTSTART:20210101T000000
END:STANDARD
END:VTIMEZONE
BEGIN:VEVENT
DTSTART;TZID=America/New_York:20220203T100000
DTEND;TZID=America/New_York:20220203T120000
DTSTAMP:20260422T100038
CREATED:20220106T191655Z
LAST-MODIFIED:20220202T164048Z
UID:26475-1643882400-1643889600@cleanairenc.org
SUMMARY:NC Electric Transportation Stakeholder Webinar
DESCRIPTION:Southern Alliance for Clean Energy\, in collaboration with Plug-In NC\, will host an NC electric transportation stakeholder webinar. Invitees include advocates\, EV industry\, electric utilities\, state agencies\, local governments\, universities\, and Clean Cities Coalitions. The webinar will explore the work underway and identify what’s needed to prepare NC for efficient\, effective\, and equitable use of forthcoming federal EV charging infrastructure funding. \nRegister here.
URL:https://cleanairenc.org/event/nc-electric-transportation-stakeholder-webinar/
LOCATION:Virtual
CATEGORIES:Past
ATTACH;FMTTYPE=image/png:https://cleanairenc.org/wp-content/uploads/2022/01/NC-Electric-Transportation-Stakeholder-Gathering.png
END:VEVENT
BEGIN:VEVENT
DTSTART;TZID=America/New_York:20220208T190000
DTEND;TZID=America/New_York:20220208T200000
DTSTAMP:20260422T100038
CREATED:20220112T143800Z
LAST-MODIFIED:20220209T015112Z
UID:26596-1644346800-1644350400@cleanairenc.org
SUMMARY:Tell Me About It Tuesdays: Improving Resilience to Coastal Riverine Flooding
DESCRIPTION:Sound Rivers’ virtual science series\, Tell Me About It Tuesdays\, is back in February with “Natural Systems — Improving Resilience to Coastal Riverine Flooding.” Tune in with Dr. Barbara Doll at 7 p.m. on Feb. 8 for this episode about flood resilience and restoration. Dr. Doll is a North Carolina State University extension associate professor and restoration specialist with North Carolina Sea Grant\, whose work has focused on nonpoint source pollution prevention and treatment\, restoration ecology\, stormwater management\, stream assessment\, and sustainable landscaping.
URL:https://cleanairenc.org/event/tell-me-about-it-tuesdays-improving-resilience-to-coastal-riverine-flooding/
LOCATION:Virtual
CATEGORIES:Past
ATTACH;FMTTYPE=image/jpeg:https://cleanairenc.org/wp-content/uploads/2022/01/Tell-Me-About-It-Tuesdays-Feb-8.jpeg
END:VEVENT
BEGIN:VEVENT
DTSTART;TZID=America/New_York:20220217T100000
DTEND;TZID=America/New_York:20220217T110000
DTSTAMP:20260422T100038
CREATED:20220215T222453Z
LAST-MODIFIED:20220217T175052Z
UID:27118-1645092000-1645095600@cleanairenc.org
SUMMARY:The Air We Breathe in Spring: A Focus on Allergies
DESCRIPTION:The first in a quarterly webinar series\, “Climate Change\, the Air We Breathe\, and Respiratory Health\,” will focus on the ways climate change and air pollution are impacting spring allergy season. Topics discussed will include the early onset of the spring allergy season in our changing climate\, the impact of warming temperatures on plant growth and pollen intensity\, and the effect of air pollution on the allergenicity of pollen with a focus on how these changes are impacting patients with allergies\, especially those with allergic asthma. \nRegister for the free webinar here.
URL:https://cleanairenc.org/event/the-air-we-breathe-in-spring-a-focus-on-allergies/
LOCATION:Virtual
CATEGORIES:Past
ATTACH;FMTTYPE=image/jpeg:https://cleanairenc.org/wp-content/uploads/2022/02/The-Air-We-Breathe.jpeg
END:VEVENT
BEGIN:VEVENT
DTSTART;TZID=UTC:20220217T120000
DTEND;TZID=UTC:20220218T133000
DTSTAMP:20260422T100038
CREATED:20220216T180005Z
LAST-MODIFIED:20220222T164011Z
UID:27128-1645099200-1645191000@cleanairenc.org
SUMMARY:Breathe Again: Health Air is Health Care
DESCRIPTION:Did you know that more than 40% of the U.S. is breathing dirty air and that in 46 states\, communities of color are exposed to higher levels of dangerous air pollution than white communities? We have the power to take action! \nRegister now for this two-day training event to connect with others working on air pollution & the climate crisis\, take action by calling elected officials\, and learn how you can amplify your impact with “Train the Trainer” sessions! \nLearn more and register at https://ncipl.org/breathe-again/.
URL:https://cleanairenc.org/event/breathe-again-health-air-is-health-care/
LOCATION:Virtual
CATEGORIES:Past
ATTACH;FMTTYPE=image/png:https://cleanairenc.org/wp-content/uploads/2022/02/Breathe-Again.png
END:VEVENT
BEGIN:VEVENT
DTSTART;VALUE=DATE:20220221
DTEND;VALUE=DATE:20220222
DTSTAMP:20260422T100038
CREATED:20211201T165916Z
LAST-MODIFIED:20220222T163942Z
UID:26422-1645401600-1645487999@cleanairenc.org
SUMMARY:Youth Climate Summit
DESCRIPTION:This powerful\, one-day educational experience will help lead changes in the lives\, schools\, and communities of young people by working towards a more sustainable future in the Triangle. The Summit\, aligned with North Carolina State Science Standards\, will feature informative sessions and workshops led by local community leaders\, organizers\, and scientists. This program is intended for high school students. \n \n 
URL:https://cleanairenc.org/event/youth-climate-summit/
LOCATION:The Museum of Life and Science\, 433 W. Murray Avenue\, Durham\, NC\, 27704\, United States
CATEGORIES:Past
ATTACH;FMTTYPE=image/png:https://cleanairenc.org/wp-content/uploads/2021/12/Youth-Climate-Summit.png
END:VEVENT
END:VCALENDAR