BEGIN:VCALENDAR
VERSION:2.0
PRODID:-//CleanAIRE NC - ECPv6.15.20//NONSGML v1.0//EN
CALSCALE:GREGORIAN
METHOD:PUBLISH
X-ORIGINAL-URL:https://cleanairenc.org
X-WR-CALDESC:Events for CleanAIRE NC
REFRESH-INTERVAL;VALUE=DURATION:PT1H
X-Robots-Tag:noindex
X-PUBLISHED-TTL:PT1H
BEGIN:VTIMEZONE
TZID:America/Halifax
BEGIN:DAYLIGHT
TZOFFSETFROM:-0400
TZOFFSETTO:-0300
TZNAME:ADT
DTSTART:20210314T060000
END:DAYLIGHT
BEGIN:STANDARD
TZOFFSETFROM:-0300
TZOFFSETTO:-0400
TZNAME:AST
DTSTART:20211107T050000
END:STANDARD
BEGIN:DAYLIGHT
TZOFFSETFROM:-0400
TZOFFSETTO:-0300
TZNAME:ADT
DTSTART:20220313T060000
END:DAYLIGHT
BEGIN:STANDARD
TZOFFSETFROM:-0300
TZOFFSETTO:-0400
TZNAME:AST
DTSTART:20221106T050000
END:STANDARD
BEGIN:DAYLIGHT
TZOFFSETFROM:-0400
TZOFFSETTO:-0300
TZNAME:ADT
DTSTART:20230312T060000
END:DAYLIGHT
BEGIN:STANDARD
TZOFFSETFROM:-0300
TZOFFSETTO:-0400
TZNAME:AST
DTSTART:20231105T050000
END:STANDARD
END:VTIMEZONE
BEGIN:VTIMEZONE
TZID:America/New_York
BEGIN:DAYLIGHT
TZOFFSETFROM:-0500
TZOFFSETTO:-0400
TZNAME:EDT
DTSTART:20210314T070000
END:DAYLIGHT
BEGIN:STANDARD
TZOFFSETFROM:-0400
TZOFFSETTO:-0500
TZNAME:EST
DTSTART:20211107T060000
END:STANDARD
BEGIN:DAYLIGHT
TZOFFSETFROM:-0500
TZOFFSETTO:-0400
TZNAME:EDT
DTSTART:20220313T070000
END:DAYLIGHT
BEGIN:STANDARD
TZOFFSETFROM:-0400
TZOFFSETTO:-0500
TZNAME:EST
DTSTART:20221106T060000
END:STANDARD
BEGIN:DAYLIGHT
TZOFFSETFROM:-0500
TZOFFSETTO:-0400
TZNAME:EDT
DTSTART:20230312T070000
END:DAYLIGHT
BEGIN:STANDARD
TZOFFSETFROM:-0400
TZOFFSETTO:-0500
TZNAME:EST
DTSTART:20231105T060000
END:STANDARD
END:VTIMEZONE
BEGIN:VTIMEZONE
TZID:UTC
BEGIN:STANDARD
TZOFFSETFROM:+0000
TZOFFSETTO:+0000
TZNAME:UTC
DTSTART:20210101T000000
END:STANDARD
END:VTIMEZONE
BEGIN:VEVENT
DTSTART;VALUE=DATE:20220502
DTEND;VALUE=DATE:20220507
DTSTAMP:20260422T040703
CREATED:20220425T192535Z
LAST-MODIFIED:20220509T194858Z
UID:28114-1651449600-1651881599@cleanairenc.org
SUMMARY:Air Quality Awareness Week
DESCRIPTION:Air Quality Awareness Week 2022 will be celebrated May 2 – 6\, 2022. Our theme this year is Be Air Aware & Prepared! The goal of Air Quality Awareness Week is to promote events that increase air quality awareness and encourage people to check the Air Quality Index (AQI) daily. \nEach day of the week will focus on the following daily topics: \n\nMonday\, May 2nd: Wildfires & Smoke\nTuesday\, May 3rd: Asthma and Your Health\nWednesday\, May 4th: Citizen Science & Sensors\nThursday\, May 5th: Environmental Justice & Air Quality\nFriday\, May 6th: Air Quality Around the World\n\nLearn more at https://www.airnow.gov/aqaw/.
URL:https://cleanairenc.org/event/air-quality-awareness-week/
LOCATION:NC
CATEGORIES:Past
ATTACH;FMTTYPE=image/jpeg:https://cleanairenc.org/wp-content/uploads/2022/04/AQAW-2022-graphic.jpg
END:VEVENT
BEGIN:VEVENT
DTSTART;TZID=America/Halifax:20220514T113000
DTEND;TZID=America/Halifax:20220514T160000
DTSTAMP:20260422T040703
CREATED:20220510T155806Z
LAST-MODIFIED:20220519T174404Z
UID:28264-1652527800-1652544000@cleanairenc.org
SUMMARY:RiverFest
DESCRIPTION:Come down to Kevin Loftin Riverfront Park this weekend for RiverFest\, a family-friendly festival held on the banks of the Catawba River. The day will be action-packed with fun for the whole family\, including food trucks\, live music\, local beer\,  kayaking\, a kids’ zone\, local vendors\, and more!\n\n\n\nLearn more at https://www.catawbariverkeeper.org/riverfest/
URL:https://cleanairenc.org/event/riverfest/
LOCATION:Kevin Loftin Riverfront Park\, 1400 Catawba St\, Belmont\, NC\, 28012\, United States
CATEGORIES:Past
ATTACH;FMTTYPE=image/png:https://cleanairenc.org/wp-content/uploads/2021/08/RiverFest-2021-final.png
END:VEVENT
BEGIN:VEVENT
DTSTART;TZID=America/New_York:20220518T141200
DTEND;TZID=America/New_York:20220518T141200
DTSTAMP:20260422T040703
CREATED:20220112T151303Z
LAST-MODIFIED:20230713T213324Z
UID:26605-1652883120-1652883120@cleanairenc.org
SUMMARY:NC BREATHE 2022
DESCRIPTION:The NC BREATHE 2022 conference will be held on April 7\, 2022\, both virtually and in person at Catawba College in Salisbury\, North Carolina. The hybrid event will feature a series of panel discussions and distinguished keynote speakers focusing on climate\, health\, and equity. \nRegistration is now open! You can register for NC BREATHE at https://cleanairenc.salsalabs.org/ncbreathe2022_2/index.html.
URL:https://cleanairenc.org/event/nc-breathe-2022/
LOCATION:NC
CATEGORIES:NC BREATHE,Past
ATTACH;FMTTYPE=image/png:https://cleanairenc.org/wp-content/uploads/2022/01/NC_BREATHE_Logo_FINAL.png
END:VEVENT
BEGIN:VEVENT
DTSTART;TZID=UTC:20220519T180000
DTEND;TZID=UTC:20220519T210000
DTSTAMP:20260422T040703
CREATED:20220406T204128Z
LAST-MODIFIED:20220519T144937Z
UID:27734-1652983200-1652994000@cleanairenc.org
SUMMARY:Clean Energy in the Mountains
DESCRIPTION:Last year\, the North Carolina General Assembly passed HB951: Energy Solutions for North Carolina\, the first major comprehensive legislation since HB589. This piece of legislation outlines a roadmap at the NC Utilities Commission to work on issues related to carbon reduction\, coal retirement\, competitive procurement\, performance-based regulations\, and various other provisions. \nJoin NCSEA as they discuss HB951 implementation and what lies ahead on the horizon for clean energy in North Carolina. The event will feature a moderated panel discussion and conversations with your peers\, followed by networking with fellow clean energy industry professionals\, advocates\, and supporters.
URL:https://cleanairenc.org/event/clean-energy-in-the-mountains/
LOCATION:Highland Brewing Company\, 12 Old Charlotte Hwy #200\, Asheville\, NC\, 28803\, United States
CATEGORIES:Past
ATTACH;FMTTYPE=image/jpeg:https://cleanairenc.org/wp-content/uploads/2022/04/Clean-Energy-in-the-Mountains.jpeg
END:VEVENT
BEGIN:VEVENT
DTSTART;TZID=America/Halifax:20220521T120000
DTEND;TZID=America/Halifax:20220521T140000
DTSTAMP:20260422T040703
CREATED:20220429T210453Z
LAST-MODIFIED:20220524T152135Z
UID:28193-1653134400-1653141600@cleanairenc.org
SUMMARY:EVs For Equity
DESCRIPTION:Did you know sales of electric vehicles are growing exponentially due to competitive pricing and technology improvements? Electric vehicles also have the potential to bring widespread health and environmental benefits through improving the air we breathe. \nResidents of the Historic West End in Charlotte are invited to check out a variety of electric vehicles on display and talk with EV drivers and experts at the upcoming EVs for Equity event on Saturday\, May 21 beginning at noon. \n\nHear about benefits\, incentives\, and programs for electric vehicle (EV) ownership.\nConnect with local experts and owners about their experience with EVs.\nExperience a variety of vehicles on display including Nissan Leaf\, Kia Niro\, Tesla Model S Plaid edition\, and Mitsubishi Outlander.\nLearn about the Historic West End Green District initiative and the growth of EV infrastructure in the Historic West End\, including the latest PoleVolt technology.\n\nThis special event is open to all Historic West End residents. To learn more and register\, click here.
URL:https://cleanairenc.org/event/evs-for-equity/
LOCATION:Northwest School of the Arts\, 1415 Beatties Ford rd\, Charlotte\, NC\, 28216\, United States
CATEGORIES:Past
ATTACH;FMTTYPE=image/png:https://cleanairenc.org/wp-content/uploads/2022/04/EVs-For-Equity-event-graphic.png
END:VEVENT
BEGIN:VEVENT
DTSTART;TZID=America/Halifax:20220524T200000
DTEND;TZID=America/Halifax:20220526T220000
DTSTAMP:20260422T040703
CREATED:20220510T161026Z
LAST-MODIFIED:20220602T202926Z
UID:28266-1653422400-1653602400@cleanairenc.org
SUMMARY:There's Nothing Funny About Climate Change Comedy Tour
DESCRIPTION:There’s Nothing Funny About Climate Change is a live comedy tour across the Southeast to make you laugh while also sharing how the earth needs our help. Each tour stop will be an evening of stand-up comedy with a little bit of environmental justice mixed in. \nFeaturing comedians Hillary Begley\, Petey Smith-McDowell\, Robert Brian Schneider\, Grace Hauth\, and LA Redd. Come find out how you can be a part of the change. \nUpcoming Tour dates: \nCharlotte\, NC\nTuesday\, May 24th at 8 PM\nVenue: Hattie’s Tap and Tavern\nFree ($10 suggested cover at the door) \nRaleigh\, NC\nWednesday\, May 25th at 8 PM\nVenue: Barrel Culture Brewing & Blending\nFree ($10 suggested cover at the door) \nDurham\, NC\nThursday\, May 26th at 8 PM\nVenue: GPazz Live Music Hall\nFree ($10 suggested cover at the door) \n  \n 
URL:https://cleanairenc.org/event/theres-nothing-funny-about-climate-change-comedy-tour/
LOCATION:NC
CATEGORIES:Past
ATTACH;FMTTYPE=image/png:https://cleanairenc.org/wp-content/uploads/2022/05/Climate-Change-Comedy-tour.png
END:VEVENT
END:VCALENDAR