BEGIN:VCALENDAR
VERSION:2.0
PRODID:-//CleanAIRE NC - ECPv6.15.20//NONSGML v1.0//EN
CALSCALE:GREGORIAN
METHOD:PUBLISH
X-ORIGINAL-URL:https://cleanairenc.org
X-WR-CALDESC:Events for CleanAIRE NC
REFRESH-INTERVAL;VALUE=DURATION:PT1H
X-Robots-Tag:noindex
X-PUBLISHED-TTL:PT1H
BEGIN:VTIMEZONE
TZID:America/New_York
BEGIN:DAYLIGHT
TZOFFSETFROM:-0500
TZOFFSETTO:-0400
TZNAME:EDT
DTSTART:20210314T070000
END:DAYLIGHT
BEGIN:STANDARD
TZOFFSETFROM:-0400
TZOFFSETTO:-0500
TZNAME:EST
DTSTART:20211107T060000
END:STANDARD
BEGIN:DAYLIGHT
TZOFFSETFROM:-0500
TZOFFSETTO:-0400
TZNAME:EDT
DTSTART:20220313T070000
END:DAYLIGHT
BEGIN:STANDARD
TZOFFSETFROM:-0400
TZOFFSETTO:-0500
TZNAME:EST
DTSTART:20221106T060000
END:STANDARD
BEGIN:DAYLIGHT
TZOFFSETFROM:-0500
TZOFFSETTO:-0400
TZNAME:EDT
DTSTART:20230312T070000
END:DAYLIGHT
BEGIN:STANDARD
TZOFFSETFROM:-0400
TZOFFSETTO:-0500
TZNAME:EST
DTSTART:20231105T060000
END:STANDARD
END:VTIMEZONE
BEGIN:VTIMEZONE
TZID:America/Halifax
BEGIN:DAYLIGHT
TZOFFSETFROM:-0400
TZOFFSETTO:-0300
TZNAME:ADT
DTSTART:20210314T060000
END:DAYLIGHT
BEGIN:STANDARD
TZOFFSETFROM:-0300
TZOFFSETTO:-0400
TZNAME:AST
DTSTART:20211107T050000
END:STANDARD
BEGIN:DAYLIGHT
TZOFFSETFROM:-0400
TZOFFSETTO:-0300
TZNAME:ADT
DTSTART:20220313T060000
END:DAYLIGHT
BEGIN:STANDARD
TZOFFSETFROM:-0300
TZOFFSETTO:-0400
TZNAME:AST
DTSTART:20221106T050000
END:STANDARD
BEGIN:DAYLIGHT
TZOFFSETFROM:-0400
TZOFFSETTO:-0300
TZNAME:ADT
DTSTART:20230312T060000
END:DAYLIGHT
BEGIN:STANDARD
TZOFFSETFROM:-0300
TZOFFSETTO:-0400
TZNAME:AST
DTSTART:20231105T050000
END:STANDARD
END:VTIMEZONE
BEGIN:VEVENT
DTSTART;TZID=America/New_York:20220802T180000
DTEND;TZID=America/New_York:20220802T190000
DTSTAMP:20260421T223400
CREATED:20220727T200238Z
LAST-MODIFIED:20220803T152707Z
UID:29224-1659463200-1659466800@cleanairenc.org
SUMMARY:Webinar: An Alternative Carbon Plan for the Carolinas
DESCRIPTION:
URL:https://votesolar-org.zoom.us/webinar/register/WN_HTl-Ngl-Rt-Z1SOZ2lBIDQ#new_tab
LOCATION:Virtual
CATEGORIES:Past
ATTACH;FMTTYPE=image/jpeg:https://cleanairenc.org/wp-content/uploads/2022/07/Carbon-Plan-Hearings_Durham-9-1.jpg
END:VEVENT
BEGIN:VEVENT
DTSTART;TZID=America/New_York:20220820T100000
DTEND;TZID=America/New_York:20220820T140000
DTSTAMP:20260421T223400
CREATED:20220801T182549Z
LAST-MODIFIED:20220823T134405Z
UID:29252-1660989600-1661004000@cleanairenc.org
SUMMARY:Riverkeeper Float Fest
DESCRIPTION:This family-friendly event will take place from 10:00 a.m. to 5:00 p.m at River & Earth Adventures‘ New River Outpost in Todd\, NC. Appalachian Mountain Brewery will offer local craft beer\, food\, and live music. Riverkeeper Float Fest proceeds benefit MountainTrue’s Watauga Riverkeeper. 2022 marks the 50th anniversary of the Clean Water Act\, so this year’s event will be a great way to celebrate this landmark legislation while supporting clean water in the High Country! \nLearn more and register here.
URL:https://cleanairenc.org/event/riverkeeper-float-fest/
LOCATION:River & Earth Adventures New River Outpost\, 6201 Castle Ford Road\, Todd\, 28684\, United States
CATEGORIES:Past
ATTACH;FMTTYPE=image/png:https://cleanairenc.org/wp-content/uploads/2022/08/2022-Riverkeeper-Float-Fest.png
END:VEVENT
BEGIN:VEVENT
DTSTART;TZID=America/New_York:20220822T080000
DTEND;TZID=America/New_York:20220825T170000
DTSTAMP:20260421T223400
CREATED:20220801T180532Z
LAST-MODIFIED:20220826T155132Z
UID:29244-1661155200-1661446800@cleanairenc.org
SUMMARY:2022 National Ambient Air Monitoring Conference
DESCRIPTION:CleanAIRE NC’s Citizen Science Manager Denise Bruce and Environmental Justice Manager Daisha Williams will present at the 2022 National Ambient Air Monitoring Conference\, sponsored by EPA in conjunction with the Association of Air Pollution Control Agencies (AAPCA) and the National Association of Clean Air Agencies (NACAA). The conference is a must for federal\, state\, local and tribal air pollution organizations involved with operating\, planning\, or managing air monitoring networks and reporting data to AQS\, and/or AIRNOW. Denise and Daisha’s presentation is scheduled for Wednesday’s Technical Session on Community Monitoring. Check out the draft agenda. \nLearn more and register for the conference here.
URL:https://cleanairenc.org/event/2022-national-ambient-air-monitoring-conference/
LOCATION:David L. Lawrence Convention Center\, 1000 Fort Duquesne Blvd\, Pittsburgh\, PA\, 15222\, United States
CATEGORIES:Past
ATTACH;FMTTYPE=image/png:https://cleanairenc.org/wp-content/uploads/2022/08/2022-National-Ambient-Air-Monitoring-Conference.png
END:VEVENT
BEGIN:VEVENT
DTSTART;TZID=America/Halifax:20220823T133000
DTEND;TZID=America/Halifax:20220823T143000
DTSTAMP:20260421T223400
CREATED:20220622T141543Z
LAST-MODIFIED:20220824T165117Z
UID:28784-1661261400-1661265000@cleanairenc.org
SUMMARY:NC Carbon Plan: Public Hearing (Virtual)
DESCRIPTION:
URL:https://cleanairenc.salsalabs.org/cp_hearing_signup/index.html#new_tab
LOCATION:Virtual
CATEGORIES:Past
ATTACH;FMTTYPE=image/jpeg:https://cleanairenc.org/wp-content/uploads/2022/06/Offshore-wind-3-1-scaled.jpeg
END:VEVENT
END:VCALENDAR