BEGIN:VCALENDAR
VERSION:2.0
PRODID:-//CleanAIRE NC - ECPv6.15.20//NONSGML v1.0//EN
CALSCALE:GREGORIAN
METHOD:PUBLISH
X-WR-CALNAME:CleanAIRE NC
X-ORIGINAL-URL:https://cleanairenc.org
X-WR-CALDESC:Events for CleanAIRE NC
REFRESH-INTERVAL;VALUE=DURATION:PT1H
X-Robots-Tag:noindex
X-PUBLISHED-TTL:PT1H
BEGIN:VTIMEZONE
TZID:America/New_York
BEGIN:DAYLIGHT
TZOFFSETFROM:-0500
TZOFFSETTO:-0400
TZNAME:EDT
DTSTART:20210314T070000
END:DAYLIGHT
BEGIN:STANDARD
TZOFFSETFROM:-0400
TZOFFSETTO:-0500
TZNAME:EST
DTSTART:20211107T060000
END:STANDARD
BEGIN:DAYLIGHT
TZOFFSETFROM:-0500
TZOFFSETTO:-0400
TZNAME:EDT
DTSTART:20220313T070000
END:DAYLIGHT
BEGIN:STANDARD
TZOFFSETFROM:-0400
TZOFFSETTO:-0500
TZNAME:EST
DTSTART:20221106T060000
END:STANDARD
BEGIN:DAYLIGHT
TZOFFSETFROM:-0500
TZOFFSETTO:-0400
TZNAME:EDT
DTSTART:20230312T070000
END:DAYLIGHT
BEGIN:STANDARD
TZOFFSETFROM:-0400
TZOFFSETTO:-0500
TZNAME:EST
DTSTART:20231105T060000
END:STANDARD
END:VTIMEZONE
BEGIN:VEVENT
DTSTART;TZID=America/New_York:20221130T090000
DTEND;TZID=America/New_York:20221202T170000
DTSTAMP:20260421T145433
CREATED:20221114T193815Z
LAST-MODIFIED:20221205T153441Z
UID:30076-1669798800-1670000400@cleanairenc.org
SUMMARY:Southeast Renewable Energy Summit
DESCRIPTION:The Southeast Renewable Energy Summit covers this region’s burgeoning clean energy market\, bringing in key state policymakers\, critical decision-makers\, and leading utility executives and renewable energy players from the most dynamic states in the region — including North Carolina\, Virginia\, Georgia\, Louisiana\, Mississippi\, Tennessee\, and Kentucky — to provide the most definitive updates on the issues you’ll need to understand to seize the very best opportunities. \nLearn more and register here.
URL:https://cleanairenc.org/event/southeast-renewable-energy-summit/
LOCATION:Omni Charlotte Hotel\, 132 E Trade St\, Charlotte\, NC\, 28202\, United States
CATEGORIES:Past
ATTACH;FMTTYPE=image/png:https://cleanairenc.org/wp-content/uploads/2022/11/Southeast-Reneable-Energy-Summit.png
END:VEVENT
BEGIN:VEVENT
DTSTART;TZID=America/New_York:20221212T180000
DTEND;TZID=America/New_York:20221212T193000
DTSTAMP:20260421T145433
CREATED:20221202T044054Z
LAST-MODIFIED:20221214T145655Z
UID:30185-1670868000-1670873400@cleanairenc.org
SUMMARY:Public Hearing EJ Prep Session
DESCRIPTION:In preparation for the December 14th EJ Community Input Session\, Toxic Free NC will host a 90-minute storytelling workshop on Monday\, December 12th\, to help community members tell their story. \nYou can register for this important meeting here.
URL:https://cleanairenc.org/event/public-hearing-ej-prep-session/
LOCATION:Virtual
CATEGORIES:Past
ATTACH;FMTTYPE=image/png:https://cleanairenc.org/wp-content/uploads/2022/12/toxic-free-nc-ej-storytelling.png
END:VEVENT
BEGIN:VEVENT
DTSTART;TZID=America/New_York:20221214T160000
DTEND;TZID=America/New_York:20221214T180000
DTSTAMP:20260421T145433
CREATED:20221202T043209Z
LAST-MODIFIED:20230105T190816Z
UID:30181-1671033600-1671040800@cleanairenc.org
SUMMARY:Environmental Justice Community Listening Session
DESCRIPTION:Gov. Roy Cooper is seeking community input on environmental justice issues. Join a special Community Input Session on Wednesday\, December 14th to share your community’s story with NC policymakers. \nNo one knows your story better than you. But you can share your unique perspective on the issues that impact you and your community. When policymakers better understand the problem\, they can create more informed solutions. \nYou can register for the event\, or sign up to be a speaker\, here. \nAdditionally\, our partners at ToxicFree NC will host a storytelling workshop on Monday\, December 12th\, from 6pm – 7:30pm to help community members prepare for the listening session. You can register for this important meeting here.
URL:https://cleanairenc.org/event/environmental-justice-community-listening-session/
LOCATION:Virtual
CATEGORIES:Past
ATTACH;FMTTYPE=image/png:https://cleanairenc.org/wp-content/uploads/2022/12/ej-community-listening-session.png
END:VEVENT
END:VCALENDAR