BEGIN:VCALENDAR
VERSION:2.0
PRODID:-//CleanAIRE NC - ECPv6.15.20//NONSGML v1.0//EN
CALSCALE:GREGORIAN
METHOD:PUBLISH
X-ORIGINAL-URL:https://cleanairenc.org
X-WR-CALDESC:Events for CleanAIRE NC
REFRESH-INTERVAL;VALUE=DURATION:PT1H
X-Robots-Tag:noindex
X-PUBLISHED-TTL:PT1H
BEGIN:VTIMEZONE
TZID:America/New_York
BEGIN:DAYLIGHT
TZOFFSETFROM:-0500
TZOFFSETTO:-0400
TZNAME:EDT
DTSTART:20220313T070000
END:DAYLIGHT
BEGIN:STANDARD
TZOFFSETFROM:-0400
TZOFFSETTO:-0500
TZNAME:EST
DTSTART:20221106T060000
END:STANDARD
BEGIN:DAYLIGHT
TZOFFSETFROM:-0500
TZOFFSETTO:-0400
TZNAME:EDT
DTSTART:20230312T070000
END:DAYLIGHT
BEGIN:STANDARD
TZOFFSETFROM:-0400
TZOFFSETTO:-0500
TZNAME:EST
DTSTART:20231105T060000
END:STANDARD
BEGIN:DAYLIGHT
TZOFFSETFROM:-0500
TZOFFSETTO:-0400
TZNAME:EDT
DTSTART:20240310T070000
END:DAYLIGHT
BEGIN:STANDARD
TZOFFSETFROM:-0400
TZOFFSETTO:-0500
TZNAME:EST
DTSTART:20241103T060000
END:STANDARD
END:VTIMEZONE
BEGIN:VEVENT
DTSTART;TZID=America/New_York:20230406T080000
DTEND;TZID=America/New_York:20230406T170000
DTSTAMP:20260421T071957
CREATED:20221107T190416Z
LAST-MODIFIED:20230410T193023Z
UID:30017-1680768000-1680800400@cleanairenc.org
SUMMARY:2023 NC BREATHE Conference
DESCRIPTION:
URL:http://cleanairenc.org/nc-breathe-conference/#new_tab
LOCATION:Charlotte\, Charlotte\, NC\, 28208\, United States
CATEGORIES:NC BREATHE,Past
ATTACH;FMTTYPE=image/jpeg:https://cleanairenc.org/wp-content/uploads/2023/02/CANC_NC-Breathe-Ads_FB_1200x628_2.jpg
END:VEVENT
BEGIN:VEVENT
DTSTART;TZID=America/New_York:20230413T080000
DTEND;TZID=America/New_York:20230413T170000
DTSTAMP:20260421T071957
CREATED:20230413T201223Z
LAST-MODIFIED:20230414T141805Z
UID:31465-1681372800-1681405200@cleanairenc.org
SUMMARY:Earth Action Vigil: Banking On Love
DESCRIPTION:GreenFaith joins with local and regional climate activists including 350.org and Rainforest Action Network for a day of action at Bank of America in advance of the annual shareholders meeting. Banks need to hear from us!  Help us send the urgent message to stop funding fossil fuel projects that are driving climate change\, endangering lives\, infringing on Indigenous rights and threatening the well-being of future generations. \nThis event is part of a nationally coordinated action with STMP targeting bank headquarters around the country as 4 major US banks (Bank of America\, Wells Fargo\, Citibank and JP Morgan Chase) continue to bank on dirty fossil fuels. RSVP here to show your support for a healthier planet and cleaner air!
URL:https://cleanairenc.org/event/earth-action-vigil-banking-on-love/
LOCATION:Uptown Center City\, 100 N. Tryon Street\, Charlotte\, NC\, 28202\, United States
CATEGORIES:Past
ATTACH;FMTTYPE=image/png:https://cleanairenc.org/wp-content/uploads/2023/04/GF-Earth-Action-Vigil.png
END:VEVENT
BEGIN:VEVENT
DTSTART;TZID=America/New_York:20230415T100000
DTEND;TZID=America/New_York:20230415T150000
DTSTAMP:20260421T071957
CREATED:20230308T214101Z
LAST-MODIFIED:20230419T125151Z
UID:30824-1681552800-1681570800@cleanairenc.org
SUMMARY:Charlotte Earth Day
DESCRIPTION:CleanAIRE NC is a proud sponsor of Charlotte’s Earth Day celebration at First Ward Park. Come celebrate the beauty and diversity of our ecosystems\, and discover climate solutions and the park’s new air quality monitoring station. \nDon’t forget to visit our CleanAIRE NC exhibit table and say “hi!” \nLearn more at charlotteearthday.com/
URL:https://cleanairenc.org/event/charlotte-earth-day/
LOCATION:First Ward Park\, 301 E 7th Street\, Charlotte\, NC\, 28202\, United States
CATEGORIES:Past
ATTACH;FMTTYPE=image/png:https://cleanairenc.org/wp-content/uploads/2023/03/CLT-Earth-Day-2023.png
END:VEVENT
BEGIN:VEVENT
DTSTART;TZID=America/New_York:20230416T130000
DTEND;TZID=America/New_York:20230416T170000
DTSTAMP:20260421T071957
CREATED:20230410T200429Z
LAST-MODIFIED:20230419T124515Z
UID:31226-1681650000-1681664400@cleanairenc.org
SUMMARY:NoDa Arbor Day
DESCRIPTION:On Sunday\, April 16th\, join us and the NoDa NBA for a free and family-fun Arbor Day Celebration of the wonderful things NoDa’s tree canopy does for the neighborhood! The event will include two showings of the movie “The Lorax;” live music; food trucks; seedlings giveaways; family-friendly outdoor games; and free books for tree-loving children and adults. \nBe sure to stop by CleanAIRE NC’s booth and say “hi”! Learn more and reserve your spot.
URL:https://cleanairenc.org/event/noda-arbor-day/
LOCATION:Divine Barrel Brewing\, 3701 N Davidson St\, Charlotte\, NC\, 28205\, United States
CATEGORIES:Past
ATTACH;FMTTYPE=image/png:https://cleanairenc.org/wp-content/uploads/2023/04/NoDa-Arbor-Day-2023-logo.png
END:VEVENT
BEGIN:VEVENT
DTSTART;TZID=America/New_York:20230420T083000
DTEND;TZID=America/New_York:20230420T103000
DTSTAMP:20260421T071957
CREATED:20230413T202627Z
LAST-MODIFIED:20230420T161130Z
UID:31477-1681979400-1681986600@cleanairenc.org
SUMMARY:Corporate Earth Day Breakfast
DESCRIPTION:EarthShare NC is holding the 9th annual Corporate Earth Day Breakfast\, which brings together businesses with common goals of corporate social responsibility and sustainability. The event will feature an inspirational and interactive session with a Fortune 500 advisor\, corporate networking\, an awards ceremony\, and breakfast. Get your tickets here and consider sponsoring a table to spread brand awareness!
URL:https://cleanairenc.org/event/corporate-earth-day-breakfast/
LOCATION:The Royal Banquet\, 3801 Hillsborough St.\, Raleigh\, NC\, 27607\, United States
CATEGORIES:Past
ATTACH;FMTTYPE=image/png:https://cleanairenc.org/wp-content/uploads/2023/04/EarthShare-NC-Corporate-Earth-Day-Breakfast.png
END:VEVENT
BEGIN:VEVENT
DTSTART;TZID=America/New_York:20230420T090000
DTEND;TZID=America/New_York:20230421T150000
DTSTAMP:20260421T071957
CREATED:20230413T205128Z
LAST-MODIFIED:20230421T143547Z
UID:31483-1681981200-1682089200@cleanairenc.org
SUMMARY:Decolonizing Practice in Global Health & Beyond
DESCRIPTION:The Decolonize\, Dismantle and Redesign student working group is hosting a two-day hybrid webinar event entitled From Academia to Action: Decolonizing Practice in Global Health and Beyond on April 20-21. Join a conversation with global health practitioners\, scholars\, and activists from across the globe to explore decolonizing practice\, broaden perspectives on collective-building and solidarity\, and learn how to participate in decolonial action. This event aims to acknowledge the harmful nature of academic institutions and elucidate pathways to healing and reform. Join us in person at the Duke School of Nursing\, Room 1103\, or via Zoom. In-person attendance is limited to 80 people. This event is open to the public. \nRegister in-person or on Zoom here.
URL:https://cleanairenc.org/event/decolonizing-practice-in-global-health-beyond/
LOCATION:Duke University School of Nursing\, 307 Trent Drive\, Durham\, NC\, 27710\, United States
CATEGORIES:Past
ATTACH;FMTTYPE=image/png:https://cleanairenc.org/wp-content/uploads/2023/04/Duke-Decolonize-logo.png
END:VEVENT
BEGIN:VEVENT
DTSTART;TZID=America/New_York:20230421T170000
DTEND;TZID=America/New_York:20230421T220000
DTSTAMP:20260421T071957
CREATED:20230414T140447Z
LAST-MODIFIED:20230425T164332Z
UID:31523-1682096400-1682114400@cleanairenc.org
SUMMARY:Celebrate Earth Day 2023
DESCRIPTION:Join the City of Raleigh for a FREE community event to explore earth-conscious vendors and organizations while enjoying live music\, games\, and activities for all ages. \n\nLEARN about what the City of Raleigh and Community Partners are doing to create a more sustainable Raleigh.\nTAKE ACTION and pledge to volunteer and make personal changes to support the environment.\nCELEBRATE the Raleigh Environmental Award Winners taking climate action across the community.\nWATCH the movie WALL-E at the conclusion of the event.\n\nMore details\, vendor information\, and event schedule can be found here.
URL:https://cleanairenc.org/event/celebrate-earth-day-2023/
LOCATION:Dorothea Dix Park\, 1030 Richardson Dr\, Raleigh\, NC\, 27603\, United States
CATEGORIES:Past
ATTACH;FMTTYPE=image/jpeg:https://cleanairenc.org/wp-content/uploads/2023/04/Raleigh-Earth-Day-Celebration.jpeg
END:VEVENT
BEGIN:VEVENT
DTSTART;TZID=America/New_York:20230421T180000
DTEND;TZID=America/New_York:20230421T203000
DTSTAMP:20260421T071957
CREATED:20230413T195431Z
LAST-MODIFIED:20230425T164352Z
UID:31459-1682100000-1682109000@cleanairenc.org
SUMMARY:Film Screening: The Smell of Money
DESCRIPTION:Join documentary film producer Jamie Berger for a special film screening of The Smell of Money\, followed by a conversation about the impacts of industrial-scale hog farming in eastern North Carolina. \nTickets are free but limited. Reserve your spot here. \n 
URL:https://cleanairenc.org/event/film-screening-the-smell-of-money/
LOCATION:UNC–Charlotte\, Cone University Center\, 9201 University City Blvd.\, Charlotte\, NC\, 28223\, United States
CATEGORIES:Past
ATTACH;FMTTYPE=image/jpeg:https://cleanairenc.org/wp-content/uploads/2023/04/TSOM.jpeg
END:VEVENT
BEGIN:VEVENT
DTSTART;TZID=America/New_York:20230422T100000
DTEND;TZID=America/New_York:20230422T160000
DTSTAMP:20260421T071957
CREATED:20230413T203104Z
LAST-MODIFIED:20230425T164412Z
UID:31481-1682157600-1682179200@cleanairenc.org
SUMMARY:Piedmont Earth Day Fair
DESCRIPTION:If you’re in the Piedmont area\, head to the Winston-Salem Fairgrounds—rain or shine—to take part in the largest Earth Day celebration and one-day environmental education event in North Carolina. Don’t miss live demos and music\, debates\, yoga\, chickens\, and more. \nGo here for more information on the event and the speakers\, and join the discussion on Facebook!
URL:https://cleanairenc.org/event/piedmont-earth-day-fair-2/
LOCATION:Winston-Salem Fairgrounds\, 569 Fairgrounds Blvd\, Winston Salem\, NC\, 27105\, United States
CATEGORIES:Past
ATTACH;FMTTYPE=image/png:https://cleanairenc.org/wp-content/uploads/2023/04/PEA-EDF-2023-Social-Media-FbGroup.png
END:VEVENT
BEGIN:VEVENT
DTSTART;TZID=America/New_York:20230430T120000
DTEND;TZID=America/New_York:20230430T160000
DTSTAMP:20260421T071957
CREATED:20230413T202042Z
LAST-MODIFIED:20230501T172212Z
UID:31471-1682856000-1682870400@cleanairenc.org
SUMMARY:Drive Electric Earth Day 2023
DESCRIPTION:Come see why the future of vehicles is electric! Get to ride in your favorite EVs and even test electric scooters and bicycles. Chat with EV owners and local EV clubs\, and learn about the solar and expanded solar tax credit. You’ll also find out how to charge and maintain an EV and why you should make the switch. Find out if the rumors are true; are electric cars really more fun to own and drive? \nLearn more and register for the event here.
URL:https://cleanairenc.org/event/drive-electric-earth-day-2023/
LOCATION:Asheville Outlets\, 800 Brevard Road\, Asheville\, NC\, 28806\, United States
CATEGORIES:Past
ATTACH;FMTTYPE=image/png:https://cleanairenc.org/wp-content/uploads/2023/04/Drive-Electric-Earth-Day-1.png
END:VEVENT
END:VCALENDAR